BEGIN:VCALENDAR
VERSION:2.0
PRODID:-//SV Wörth - ECPv6.15.20//NONSGML v1.0//EN
CALSCALE:GREGORIAN
METHOD:PUBLISH
X-ORIGINAL-URL:https://www.sv-woerth.com
X-WR-CALDESC:Veranstaltungen für SV Wörth
REFRESH-INTERVAL;VALUE=DURATION:PT1H
X-Robots-Tag:noindex
X-PUBLISHED-TTL:PT1H
BEGIN:VTIMEZONE
TZID:Europe/Berlin
BEGIN:DAYLIGHT
TZOFFSETFROM:+0100
TZOFFSETTO:+0200
TZNAME:CEST
DTSTART:20240331T010000
END:DAYLIGHT
BEGIN:STANDARD
TZOFFSETFROM:+0200
TZOFFSETTO:+0100
TZNAME:CET
DTSTART:20241027T010000
END:STANDARD
BEGIN:DAYLIGHT
TZOFFSETFROM:+0100
TZOFFSETTO:+0200
TZNAME:CEST
DTSTART:20250330T010000
END:DAYLIGHT
BEGIN:STANDARD
TZOFFSETFROM:+0200
TZOFFSETTO:+0100
TZNAME:CET
DTSTART:20251026T010000
END:STANDARD
BEGIN:DAYLIGHT
TZOFFSETFROM:+0100
TZOFFSETTO:+0200
TZNAME:CEST
DTSTART:20260329T010000
END:DAYLIGHT
BEGIN:STANDARD
TZOFFSETFROM:+0200
TZOFFSETTO:+0100
TZNAME:CET
DTSTART:20261025T010000
END:STANDARD
END:VTIMEZONE
BEGIN:VEVENT
DTSTART;TZID=Europe/Berlin:20250221T170000
DTEND;TZID=Europe/Berlin:20250222T200000
DTSTAMP:20260423T062805
CREATED:20241120T130017Z
LAST-MODIFIED:20250206T221530Z
UID:1306-1740157200-1740254400@www.sv-woerth.com
SUMMARY:Winterschießen mit Schlachtfest 2025 (abgesagt)
DESCRIPTION:Leider abgesagt wegen fehlender Helfer!
URL:https://www.sv-woerth.com/event/winterschiessen-mit-schlachtfest-50m-kleinkaliber-gewehr/
END:VEVENT
END:VCALENDAR