BEGIN:VCALENDAR
VERSION:2.0
PRODID:-//SV Wörth - ECPv6.15.20//NONSGML v1.0//EN
CALSCALE:GREGORIAN
METHOD:PUBLISH
X-ORIGINAL-URL:https://www.sv-woerth.com
X-WR-CALDESC:Veranstaltungen für SV Wörth
REFRESH-INTERVAL;VALUE=DURATION:PT1H
X-Robots-Tag:noindex
X-PUBLISHED-TTL:PT1H
BEGIN:VTIMEZONE
TZID:Europe/Berlin
BEGIN:DAYLIGHT
TZOFFSETFROM:+0100
TZOFFSETTO:+0200
TZNAME:CEST
DTSTART:20230326T010000
END:DAYLIGHT
BEGIN:STANDARD
TZOFFSETFROM:+0200
TZOFFSETTO:+0100
TZNAME:CET
DTSTART:20231029T010000
END:STANDARD
BEGIN:DAYLIGHT
TZOFFSETFROM:+0100
TZOFFSETTO:+0200
TZNAME:CEST
DTSTART:20240331T010000
END:DAYLIGHT
BEGIN:STANDARD
TZOFFSETFROM:+0200
TZOFFSETTO:+0100
TZNAME:CET
DTSTART:20241027T010000
END:STANDARD
BEGIN:DAYLIGHT
TZOFFSETFROM:+0100
TZOFFSETTO:+0200
TZNAME:CEST
DTSTART:20250330T010000
END:DAYLIGHT
BEGIN:STANDARD
TZOFFSETFROM:+0200
TZOFFSETTO:+0100
TZNAME:CET
DTSTART:20251026T010000
END:STANDARD
END:VTIMEZONE
BEGIN:VEVENT
DTSTART;TZID=Europe/Berlin:20240913T140000
DTEND;TZID=Europe/Berlin:20240915T170000
DTSTAMP:20260423T123334
CREATED:20240720T101843Z
LAST-MODIFIED:20240720T102114Z
UID:1013-1726236000-1726419600@www.sv-woerth.com
SUMMARY:Waffen Sachkunde & Standaufsicht Kurs
DESCRIPTION:> Genaue Informationen und die Anmeldung findet ihr hier <
URL:https://www.sv-woerth.com/event/waffen-sachkunde-und-standaufsicht-kurs/
LOCATION:Schützenhaus\, Im Saubögel\, Schützenverein 1960 Wörth am Rhein e.V.\, Rheinland Pfalz\, 76744\, Deutschland
END:VEVENT
END:VCALENDAR