BEGIN:VCALENDAR
VERSION:2.0
PRODID:-//SV Wörth - ECPv6.15.20//NONSGML v1.0//EN
CALSCALE:GREGORIAN
METHOD:PUBLISH
X-ORIGINAL-URL:https://www.sv-woerth.com
X-WR-CALDESC:Veranstaltungen für SV Wörth
REFRESH-INTERVAL;VALUE=DURATION:PT1H
X-Robots-Tag:noindex
X-PUBLISHED-TTL:PT1H
BEGIN:VTIMEZONE
TZID:Europe/Berlin
BEGIN:DAYLIGHT
TZOFFSETFROM:+0100
TZOFFSETTO:+0200
TZNAME:CEST
DTSTART:20240331T010000
END:DAYLIGHT
BEGIN:STANDARD
TZOFFSETFROM:+0200
TZOFFSETTO:+0100
TZNAME:CET
DTSTART:20241027T010000
END:STANDARD
BEGIN:DAYLIGHT
TZOFFSETFROM:+0100
TZOFFSETTO:+0200
TZNAME:CEST
DTSTART:20250330T010000
END:DAYLIGHT
BEGIN:STANDARD
TZOFFSETFROM:+0200
TZOFFSETTO:+0100
TZNAME:CET
DTSTART:20251026T010000
END:STANDARD
BEGIN:DAYLIGHT
TZOFFSETFROM:+0100
TZOFFSETTO:+0200
TZNAME:CEST
DTSTART:20260329T010000
END:DAYLIGHT
BEGIN:STANDARD
TZOFFSETFROM:+0200
TZOFFSETTO:+0100
TZNAME:CET
DTSTART:20261025T010000
END:STANDARD
END:VTIMEZONE
BEGIN:VEVENT
DTSTART;TZID=Europe/Berlin:20250808T190000
DTEND;TZID=Europe/Berlin:20250808T210000
DTSTAMP:20260422T193919
CREATED:20241120T130639Z
LAST-MODIFIED:20241120T130639Z
UID:1310-1754679600-1754686800@www.sv-woerth.com
SUMMARY:Kreisehrenabend 2025
DESCRIPTION:Am Freitag den 08.08.2025 findet der Kreisehrenabend bei uns im Schützenverein statt.\nGeehrt werden alle erfolgreichen Schützen in den diversen Kategorien.\nMit Essen und Getränkeausschank.\nDer Kreis lädt ein!
URL:https://www.sv-woerth.com/event/kreisehrenabend-2025/
END:VEVENT
BEGIN:VEVENT
DTSTART;TZID=Europe/Berlin:20250809T120000
DTEND;TZID=Europe/Berlin:20250810T220000
DTSTAMP:20260422T193919
CREATED:20241120T132250Z
LAST-MODIFIED:20250605T021142Z
UID:1314-1754740800-1754863200@www.sv-woerth.com
SUMMARY:40. Internationales Vorderlader- und Westernwaffen-Schießen 2025
DESCRIPTION:Unser Internationales Vorderlader- und Westernwaffen-Schießen feiert 40 jähriges bestehen!\nDazu laden wir Sie alle herzlich ein zu einem riesen Cowboy-Event und jeder Menge Attraktionen.\n \n-> Top Country/Bluegrass Band „Dapper Dan Men“\n-> Schießwettbewerbe mit historischen Westernwaffen\n-> Western Linedance Gruppe „Just4Kicks“ bittet zum Tanz\n-> Cowboy-Verpflegung für alle Greenhorns\n-> Drinks in unserem echten\, urigen\, original Saloon\n-> Western Ambiente und Dekoration (kommen Sie gerne in passender Kleidung und mit Hut)\n-> vieles\, vieles mehr… \nAusschreibung (PDF) mit allen Daten und Wettbewerben hier »\n \n \nWir freuen uns auf Ihr erscheinen und ganz besonders am Samstag Abend\nauf die musikalische Untermalung und den Tanz mit unseren besonderen Gästen\,\nden „Dapper Dan Men“.\nDie „Dapper Dan Men“ waren schon Support-Band von „BossHoss“ und bieten\nCountry und Bluegrass Musik auf hohem Niveau. \nWebseite: Country&Bluegrass Band – Dapper Dan Men »\nVideo „One of these women“ – Dapper Dan Men »\nLive Video „Hammer Ranch Frankfurt“ – Dapper Dan Men »\nFacebook: Country&Bluegrass Band – Dapper Dan Men »\nSpotify: Country&Bluegrass Band – Dapper Dan Men » \n \n  \nBilder und Eindrücke unserer Veranstaltung 2024 findet ihr hier:\n39. Interantionales Vorderlader- und Westernwaffen-Schießen » \n 
URL:https://www.sv-woerth.com/event/40-internationales-vorderlader-und-westernwaffen-schiessen/
END:VEVENT
END:VCALENDAR