BEGIN:VCALENDAR
VERSION:2.0
PRODID:-//SV Wörth - ECPv6.15.20//NONSGML v1.0//EN
CALSCALE:GREGORIAN
METHOD:PUBLISH
X-ORIGINAL-URL:https://www.sv-woerth.com
X-WR-CALDESC:Veranstaltungen für SV Wörth
REFRESH-INTERVAL;VALUE=DURATION:PT1H
X-Robots-Tag:noindex
X-PUBLISHED-TTL:PT1H
BEGIN:VTIMEZONE
TZID:Europe/Berlin
BEGIN:DAYLIGHT
TZOFFSETFROM:+0100
TZOFFSETTO:+0200
TZNAME:CEST
DTSTART:20240331T010000
END:DAYLIGHT
BEGIN:STANDARD
TZOFFSETFROM:+0200
TZOFFSETTO:+0100
TZNAME:CET
DTSTART:20241027T010000
END:STANDARD
BEGIN:DAYLIGHT
TZOFFSETFROM:+0100
TZOFFSETTO:+0200
TZNAME:CEST
DTSTART:20250330T010000
END:DAYLIGHT
BEGIN:STANDARD
TZOFFSETFROM:+0200
TZOFFSETTO:+0100
TZNAME:CET
DTSTART:20251026T010000
END:STANDARD
BEGIN:DAYLIGHT
TZOFFSETFROM:+0100
TZOFFSETTO:+0200
TZNAME:CEST
DTSTART:20260329T010000
END:DAYLIGHT
BEGIN:STANDARD
TZOFFSETFROM:+0200
TZOFFSETTO:+0100
TZNAME:CET
DTSTART:20261025T010000
END:STANDARD
END:VTIMEZONE
BEGIN:VEVENT
DTSTART;TZID=Europe/Berlin:20251204T170000
DTEND;TZID=Europe/Berlin:20251206T160000
DTSTAMP:20260422T134025
CREATED:20241211T165745Z
LAST-MODIFIED:20251123T151753Z
UID:1422-1764867600-1765036800@www.sv-woerth.com
SUMMARY:Wörther Schießtage 2025
DESCRIPTION:Die Wörther Schießtage finden dieses Jahr von Donnerstag den 04.12.2025 bis Samstag den 06.12.2025 statt. \nIhr\, die Vereine und Bevölkerung des Umkreis Wörth\, seid wieder herzlich eingeladen. Durch unser parallel laufendes Schlachtfest ist für Verpflegung und Getränke gesorgt – wir freuen uns auf euch. \nHier findet Ihr das Anmeldeformular im WORD Format: Anmeldung » \nHier findet Ihr das Anmeldeformular im PDF Format: Anmeldung » \nHier findet Ihr die Ausschreibung im PDF Format: Ausschreibung » \nEine Voranmeldung der Teilnehmer zum Schießevent ist erwünscht.\nSelbstverständlich könnt ihr aber auch einfach als Gast kommen ohne Anmeldung. \nAnmeldung E-Mail: Anmeldung@sv-woerth.com Meldung erbeten bis zum : 25.11..2025 \nZu folgenden Zeiten kann für die Mannschafts- und Einzelwertungen geschossen werden:\nDonnerstag 04.12. 17.00 – 20.30 Uhr letzter Durchgang\nFreitag 05.12. 17.00 – 20.30 Uhr letzter Durchgang\nSamstag 06.12. 11.00 – 16.00 Uhr letzter Durchgang Siegerehrung: ca. 17.30 Uhr \nTeilnahmeberechtigt:\nBürgerinnen und Bürger der Stadt Wörth\, Mitglieder der örtlichen Vereine und Bedienstete von Firmen mit Sitz\nim Stadtgebiet Wörth sowie Stammtisch oder Straßengruppen. Das Mindestalter beträgt 12 Jahre.\nKeine aktiven Schützen oder Schützinnen.\nGeschossen wird mit vereinseigenen Luftgewehren aufgelegt auf eine Distanz von 10 m.\nDie Auswertung erfolgt elektronisch. \nEin Durchgang beinhaltet:\n3 Schuss Probe\, 10 Schuss (2 Schuss je Zielbild) für Einzel- und Mannschaftswertung\,\n3 Schuss (1 Schuss je Zielbild) für Sachpreise\, 1 Schuss für den/die Stadtschützenkönig/in.\nScheiben für Sachpreise können nachgekauft werden. ( pro Streifen 2€ )\nStartgebühr pro Teilnehmer 3\,50 € inklusive Leihwaffe\, Munition und fachliche Einweisung. \nEinzelwertung:\nEs erfolgt eine getrennte Einzelwertung für Damen\, Herren und Jugend (m/w bis einschließlich 17 Jahre)\nMannschaftswertung:\nMaximal 10 Personen bilden eine Mannschaft. Die 8 besten Einzelergebnisse bilden das Mannschaftsergebnis.\nEs erfolgt eine getrennte Mannschaftswertung für Damen und Herren.\nEs darf nur für einen Verein gestartet werden. \nErgebnisgleichheit:\nBei Ergebnisgleichheit entscheidet die höchste Anzahl der 10er\, 9er\, 8er usw.\nPreise:\nStadtschützenkönig/in Pokal und Urkunde\nMannschaften Damen und Herren Platz 1 – 3 Pokale und Urkunden\nEinzelwertung Damen\, Herren und Jugend (m/w) Platz 1 – 3 Pokale und Urkunden\nSachpreise Platz 1 – 20 je nach Teilnehmerzahl \nStadtschützenkönig/in:\nDer Schütze mit dem besten Zentrumsschuss wird Stadtschützenkönig/in.\nDie Preise werden nur an Anwesende oder Beauftragte ausgegeben. \nHier der Stadtschützenkönig von 2024: 
URL:https://www.sv-woerth.com/event/woerther-schiesstage-2025/
LOCATION:Schützenhaus und Saal
END:VEVENT
END:VCALENDAR